BEGIN:VCALENDAR
VERSION:2.0
PRODID:-//Nämforsens Hällristningsmuseum - ECPv6.15.11//NONSGML v1.0//EN
CALSCALE:GREGORIAN
METHOD:PUBLISH
X-WR-CALNAME:Nämforsens Hällristningsmuseum
X-ORIGINAL-URL:https://namforsen.com
X-WR-CALDESC:Händelser för Nämforsens Hällristningsmuseum
REFRESH-INTERVAL;VALUE=DURATION:PT1H
X-Robots-Tag:noindex
X-PUBLISHED-TTL:PT1H
BEGIN:VTIMEZONE
TZID:Europe/Stockholm
BEGIN:DAYLIGHT
TZOFFSETFROM:+0100
TZOFFSETTO:+0200
TZNAME:CEST
DTSTART:20250330T010000
END:DAYLIGHT
BEGIN:STANDARD
TZOFFSETFROM:+0200
TZOFFSETTO:+0100
TZNAME:CET
DTSTART:20251026T010000
END:STANDARD
BEGIN:DAYLIGHT
TZOFFSETFROM:+0100
TZOFFSETTO:+0200
TZNAME:CEST
DTSTART:20260329T010000
END:DAYLIGHT
BEGIN:STANDARD
TZOFFSETFROM:+0200
TZOFFSETTO:+0100
TZNAME:CET
DTSTART:20261025T010000
END:STANDARD
BEGIN:DAYLIGHT
TZOFFSETFROM:+0100
TZOFFSETTO:+0200
TZNAME:CEST
DTSTART:20270328T010000
END:DAYLIGHT
BEGIN:STANDARD
TZOFFSETFROM:+0200
TZOFFSETTO:+0100
TZNAME:CET
DTSTART:20271031T010000
END:STANDARD
END:VTIMEZONE
BEGIN:VEVENT
DTSTART;TZID=Europe/Stockholm:20260510T130000
DTEND;TZID=Europe/Stockholm:20260510T150000
DTSTAMP:20260421T164332
CREATED:20260410T090950Z
LAST-MODIFIED:20260410T123227Z
UID:3843-1778418000-1778425200@namforsen.com
SUMMARY:GLAS (Glacial archeology in sapmi)
DESCRIPTION:Välkommen till Nämforsens Hällristningsmuseum och ett föredrag med Erik Sandén från Västerbottens museum som pratar om projektet GLAS (Glacier Archeology in Sapmi). \nGLAS är ett projekt som utfört inventeringar vid en del av Sveriges kvarvarande isfläckar i fjällvärlden. Under lång tid har dessa isfläckar använts för bland annat jakt och under den tiden har föremål hamnat i isen som idag tinar fram. Om inte dessa tillvaratas kommer de snabbt erodera bort. Under 2020-2024 utfördes därför inventeringar kring isfläckar för att tillvara ta de föremål och den kunskap som nu tinar fram. Kom och lyssna på resultatet av arbetet!\nFöreläsningen tar cirka en timme med frågestund efteråt. \nMuseet öppnar kl. 12.00. Fika finns att köpa innan föreläsningen. \nObligatorisk anmälan\, se Anmälan i detta inlägg. \nOm du anmält dig och får förhinder var vänlig och meddela det till daniel.sjodal@namforsen.com. \nFöredraget arrangeras med bidrag från Sollefteå kommun.
URL:https://namforsen.com/evenemang/glas-glacial-archeology-in-sapmi/
LOCATION:Nämforsens Hällristningsmuseum\, Nipvägen 7\, Näsåker\, 881 70
ATTACH;FMTTYPE=image/jpeg:https://namforsen.com/wp-content/uploads/2026/04/image001-scaled.jpg
END:VEVENT
END:VCALENDAR